BEGIN:VCALENDAR
VERSION:2.0
PRODID:-//centrodelcorto.it - ECPv6.15.20//NONSGML v1.0//EN
CALSCALE:GREGORIAN
METHOD:PUBLISH
X-ORIGINAL-URL:https://www.centrodelcorto.it
X-WR-CALDESC:Eventi per centrodelcorto.it
REFRESH-INTERVAL;VALUE=DURATION:PT1H
X-Robots-Tag:noindex
X-PUBLISHED-TTL:PT1H
BEGIN:VTIMEZONE
TZID:Europe/Rome
BEGIN:DAYLIGHT
TZOFFSETFROM:+0100
TZOFFSETTO:+0200
TZNAME:CEST
DTSTART:20210328T010000
END:DAYLIGHT
BEGIN:STANDARD
TZOFFSETFROM:+0200
TZOFFSETTO:+0100
TZNAME:CET
DTSTART:20211031T010000
END:STANDARD
BEGIN:DAYLIGHT
TZOFFSETFROM:+0100
TZOFFSETTO:+0200
TZNAME:CEST
DTSTART:20220327T010000
END:DAYLIGHT
BEGIN:STANDARD
TZOFFSETFROM:+0200
TZOFFSETTO:+0100
TZNAME:CET
DTSTART:20221030T010000
END:STANDARD
BEGIN:DAYLIGHT
TZOFFSETFROM:+0100
TZOFFSETTO:+0200
TZNAME:CEST
DTSTART:20230326T010000
END:DAYLIGHT
BEGIN:STANDARD
TZOFFSETFROM:+0200
TZOFFSETTO:+0100
TZNAME:CET
DTSTART:20231029T010000
END:STANDARD
END:VTIMEZONE
BEGIN:VEVENT
DTSTART;VALUE=DATE:20220311
DTEND;VALUE=DATE:20220321
DTSTAMP:20260422T035011
CREATED:20211105T100129Z
LAST-MODIFIED:20211105T100129Z
UID:7182-1646956800-1647820799@www.centrodelcorto.it
SUMMARY:Spello International Short Film Festival
DESCRIPTION:Deadline: 8 gennaio 2022
URL:https://www.centrodelcorto.it/event/spello-international-short-film-festival/
LOCATION:Spello\, Spello\, Provincia di Perugia\, Italia
ATTACH;FMTTYPE=image/png:https://www.centrodelcorto.it/wp-content/uploads/2021/11/download.png
END:VEVENT
END:VCALENDAR