BEGIN:VCALENDAR
VERSION:2.0
PRODID:-//centrodelcorto.it - ECPv6.15.20//NONSGML v1.0//EN
CALSCALE:GREGORIAN
METHOD:PUBLISH
X-WR-CALNAME:centrodelcorto.it
X-ORIGINAL-URL:https://www.centrodelcorto.it
X-WR-CALDESC:Eventi per centrodelcorto.it
REFRESH-INTERVAL;VALUE=DURATION:PT1H
X-Robots-Tag:noindex
X-PUBLISHED-TTL:PT1H
BEGIN:VTIMEZONE
TZID:Europe/Rome
BEGIN:DAYLIGHT
TZOFFSETFROM:+0100
TZOFFSETTO:+0200
TZNAME:CEST
DTSTART:20210328T010000
END:DAYLIGHT
BEGIN:STANDARD
TZOFFSETFROM:+0200
TZOFFSETTO:+0100
TZNAME:CET
DTSTART:20211031T010000
END:STANDARD
BEGIN:DAYLIGHT
TZOFFSETFROM:+0100
TZOFFSETTO:+0200
TZNAME:CEST
DTSTART:20220327T010000
END:DAYLIGHT
BEGIN:STANDARD
TZOFFSETFROM:+0200
TZOFFSETTO:+0100
TZNAME:CET
DTSTART:20221030T010000
END:STANDARD
BEGIN:DAYLIGHT
TZOFFSETFROM:+0100
TZOFFSETTO:+0200
TZNAME:CEST
DTSTART:20230326T010000
END:DAYLIGHT
BEGIN:STANDARD
TZOFFSETFROM:+0200
TZOFFSETTO:+0100
TZNAME:CET
DTSTART:20231029T010000
END:STANDARD
END:VTIMEZONE
BEGIN:VEVENT
DTSTART;VALUE=DATE:20220322
DTEND;VALUE=DATE:20220327
DTSTAMP:20260422T021736
CREATED:20170713T203419Z
LAST-MODIFIED:20211022T094635Z
UID:2961-1647907200-1648339199@www.centrodelcorto.it
SUMMARY:Dieciminuti Film Festival
DESCRIPTION:Deadline: 15 novembre 2021
URL:https://www.centrodelcorto.it/event/dieciminuti-film-festival/
LOCATION:Ceccano\, Ceccano\, Italia
ATTACH;FMTTYPE=image/jpeg:https://www.centrodelcorto.it/wp-content/uploads/2017/07/logo-4.jpg
END:VEVENT
BEGIN:VEVENT
DTSTART;VALUE=DATE:20220326
DTEND;VALUE=DATE:20220404
DTSTAMP:20260422T021736
CREATED:20170712T212635Z
LAST-MODIFIED:20211022T091320Z
UID:2750-1648252800-1649030399@www.centrodelcorto.it
SUMMARY:Bergamo Film Meeting
DESCRIPTION:Deadline: 18 dicembre 2021
URL:https://www.centrodelcorto.it/event/bergamo-film-meeting/
LOCATION:Bergamo\, Bergamo\, 24121\, Italia
ATTACH;FMTTYPE=image/png:https://www.centrodelcorto.it/wp-content/uploads/2017/07/bfm_logo_header.png
END:VEVENT
END:VCALENDAR