BEGIN:VCALENDAR
VERSION:2.0
PRODID:-//centrodelcorto.it - ECPv6.15.20//NONSGML v1.0//EN
CALSCALE:GREGORIAN
METHOD:PUBLISH
X-ORIGINAL-URL:https://www.centrodelcorto.it
X-WR-CALDESC:Eventi per centrodelcorto.it
REFRESH-INTERVAL;VALUE=DURATION:PT1H
X-Robots-Tag:noindex
X-PUBLISHED-TTL:PT1H
BEGIN:VTIMEZONE
TZID:Europe/Rome
BEGIN:DAYLIGHT
TZOFFSETFROM:+0100
TZOFFSETTO:+0200
TZNAME:CEST
DTSTART:20210328T010000
END:DAYLIGHT
BEGIN:STANDARD
TZOFFSETFROM:+0200
TZOFFSETTO:+0100
TZNAME:CET
DTSTART:20211031T010000
END:STANDARD
BEGIN:DAYLIGHT
TZOFFSETFROM:+0100
TZOFFSETTO:+0200
TZNAME:CEST
DTSTART:20220327T010000
END:DAYLIGHT
BEGIN:STANDARD
TZOFFSETFROM:+0200
TZOFFSETTO:+0100
TZNAME:CET
DTSTART:20221030T010000
END:STANDARD
BEGIN:DAYLIGHT
TZOFFSETFROM:+0100
TZOFFSETTO:+0200
TZNAME:CEST
DTSTART:20230326T010000
END:DAYLIGHT
BEGIN:STANDARD
TZOFFSETFROM:+0200
TZOFFSETTO:+0100
TZNAME:CET
DTSTART:20231029T010000
END:STANDARD
END:VTIMEZONE
BEGIN:VEVENT
DTSTART;VALUE=DATE:20220802
DTEND;VALUE=DATE:20220808
DTSTAMP:20260421T184425
CREATED:20220729T105253Z
LAST-MODIFIED:20220729T105253Z
UID:7509-1659398400-1659916799@www.centrodelcorto.it
SUMMARY:Molisecinema Film Festival
DESCRIPTION:Deadline: 15 Maggio 2022
URL:https://www.centrodelcorto.it/event/molisecinema-film-festival/
LOCATION:Casacalenda\, Piazza Nardacchione snc\, Casacalenda\, Italia
ATTACH;FMTTYPE=image/jpeg:https://www.centrodelcorto.it/wp-content/uploads/2022/07/LogoMC_1.jpg
END:VEVENT
END:VCALENDAR