BEGIN:VCALENDAR
VERSION:2.0
PRODID:-//centrodelcorto.it - ECPv6.15.20//NONSGML v1.0//EN
CALSCALE:GREGORIAN
METHOD:PUBLISH
X-WR-CALNAME:centrodelcorto.it
X-ORIGINAL-URL:https://www.centrodelcorto.it
X-WR-CALDESC:Eventi per centrodelcorto.it
REFRESH-INTERVAL;VALUE=DURATION:PT1H
X-Robots-Tag:noindex
X-PUBLISHED-TTL:PT1H
BEGIN:VTIMEZONE
TZID:Europe/Rome
BEGIN:DAYLIGHT
TZOFFSETFROM:+0100
TZOFFSETTO:+0200
TZNAME:CEST
DTSTART:20210328T010000
END:DAYLIGHT
BEGIN:STANDARD
TZOFFSETFROM:+0200
TZOFFSETTO:+0100
TZNAME:CET
DTSTART:20211031T010000
END:STANDARD
BEGIN:DAYLIGHT
TZOFFSETFROM:+0100
TZOFFSETTO:+0200
TZNAME:CEST
DTSTART:20220327T010000
END:DAYLIGHT
BEGIN:STANDARD
TZOFFSETFROM:+0200
TZOFFSETTO:+0100
TZNAME:CET
DTSTART:20221030T010000
END:STANDARD
BEGIN:DAYLIGHT
TZOFFSETFROM:+0100
TZOFFSETTO:+0200
TZNAME:CEST
DTSTART:20230326T010000
END:DAYLIGHT
BEGIN:STANDARD
TZOFFSETFROM:+0200
TZOFFSETTO:+0100
TZNAME:CET
DTSTART:20231029T010000
END:STANDARD
END:VTIMEZONE
BEGIN:VEVENT
DTSTART;VALUE=DATE:20220918
DTEND;VALUE=DATE:20220926
DTSTAMP:20260421T173513
CREATED:20220627T153009Z
LAST-MODIFIED:20220627T153454Z
UID:7417-1663459200-1664150399@www.centrodelcorto.it
SUMMARY:Visioni Corte Film Festival
DESCRIPTION:Deadline: 15 Giugno 2022
URL:https://www.centrodelcorto.it/event/visioni-corte-film-festival/
LOCATION:cineteatro ariston gaeta\, Piazza della Libertà\, 19\, Gaeta\, Italia
ATTACH;FMTTYPE=image/jpeg:https://www.centrodelcorto.it/wp-content/uploads/2022/06/visioni-corte.jpg
END:VEVENT
BEGIN:VEVENT
DTSTART;VALUE=DATE:20220920
DTEND;VALUE=DATE:20220925
DTSTAMP:20260421T173513
CREATED:20211104T095331Z
LAST-MODIFIED:20211104T095331Z
UID:7155-1663632000-1664063999@www.centrodelcorto.it
SUMMARY:Life After Oil International Film Festival
DESCRIPTION:Deadline: 1 aprile 2022
URL:https://www.centrodelcorto.it/event/life-after-oil-international-film-festival/
LOCATION:Villanovaforru\, Villanovaforru\, Provincia del Sud Sardegna (SU)\, Italia
ATTACH;FMTTYPE=image/png:https://www.centrodelcorto.it/wp-content/uploads/2021/11/download-1.png
END:VEVENT
BEGIN:VEVENT
DTSTART;VALUE=DATE:20220921
DTEND;VALUE=DATE:20220926
DTSTAMP:20260421T173513
CREATED:20170716T204308Z
LAST-MODIFIED:20220627T152314Z
UID:3454-1663718400-1664150399@www.centrodelcorto.it
SUMMARY:Social World Film Festival
DESCRIPTION:Deadline: 30 aprile 2022
URL:https://www.centrodelcorto.it/event/social-world-film-festival/
LOCATION:Vico Equense\, Vico Equense\, Italia
ATTACH;FMTTYPE=image/jpeg:https://www.centrodelcorto.it/wp-content/uploads/2017/07/timthumb-34.jpg
END:VEVENT
END:VCALENDAR