BEGIN:VCALENDAR
VERSION:2.0
PRODID:-//centrodelcorto.it - ECPv6.15.20//NONSGML v1.0//EN
CALSCALE:GREGORIAN
METHOD:PUBLISH
X-WR-CALNAME:centrodelcorto.it
X-ORIGINAL-URL:https://www.centrodelcorto.it
X-WR-CALDESC:Eventi per centrodelcorto.it
REFRESH-INTERVAL;VALUE=DURATION:PT1H
X-Robots-Tag:noindex
X-PUBLISHED-TTL:PT1H
BEGIN:VTIMEZONE
TZID:Europe/Rome
BEGIN:DAYLIGHT
TZOFFSETFROM:+0100
TZOFFSETTO:+0200
TZNAME:CEST
DTSTART:20170326T010000
END:DAYLIGHT
BEGIN:STANDARD
TZOFFSETFROM:+0200
TZOFFSETTO:+0100
TZNAME:CET
DTSTART:20171029T010000
END:STANDARD
BEGIN:DAYLIGHT
TZOFFSETFROM:+0100
TZOFFSETTO:+0200
TZNAME:CEST
DTSTART:20180325T010000
END:DAYLIGHT
BEGIN:STANDARD
TZOFFSETFROM:+0200
TZOFFSETTO:+0100
TZNAME:CET
DTSTART:20181028T010000
END:STANDARD
BEGIN:DAYLIGHT
TZOFFSETFROM:+0100
TZOFFSETTO:+0200
TZNAME:CEST
DTSTART:20190331T010000
END:DAYLIGHT
BEGIN:STANDARD
TZOFFSETFROM:+0200
TZOFFSETTO:+0100
TZNAME:CET
DTSTART:20191027T010000
END:STANDARD
END:VTIMEZONE
BEGIN:VEVENT
DTSTART;VALUE=DATE:20181009
DTEND;VALUE=DATE:20181015
DTSTAMP:20260423T004058
CREATED:20170713T110208Z
LAST-MODIFIED:20181003T093047Z
UID:2875-1539043200-1539561599@www.centrodelcorto.it
SUMMARY:Coral Coast Film Festival
DESCRIPTION:
URL:https://www.centrodelcorto.it/event/coral-coast-film-festival/
LOCATION:Alghero\, Alghero\, Italia
ATTACH;FMTTYPE=image/png:https://www.centrodelcorto.it/wp-content/uploads/2017/07/Schermata-2017-07-13-alle-13.03.57.png
END:VEVENT
BEGIN:VEVENT
DTSTART;VALUE=DATE:20181006
DTEND;VALUE=DATE:20181007
DTSTAMP:20260423T004058
CREATED:20170715T194053Z
LAST-MODIFIED:20181002T100645Z
UID:3261-1538784000-1538870399@www.centrodelcorto.it
SUMMARY:Movieletters - Festival delle Lettere
DESCRIPTION:
URL:https://www.centrodelcorto.it/event/movieletters-festival-delle-lettere/
LOCATION:Milano\, Milano\, Italia
ATTACH;FMTTYPE=image/png:https://www.centrodelcorto.it/wp-content/uploads/2017/07/logo-videolettere.png
END:VEVENT
BEGIN:VEVENT
DTSTART;VALUE=DATE:20181006
DTEND;VALUE=DATE:20181009
DTSTAMP:20260423T004058
CREATED:20181004T111608Z
LAST-MODIFIED:20181004T111608Z
UID:4861-1538784000-1539043199@www.centrodelcorto.it
SUMMARY:Video Hackers Film Festival
DESCRIPTION:
URL:https://www.centrodelcorto.it/event/video-hackers-film-festival/
LOCATION:Ovada
ATTACH;FMTTYPE=image/jpeg:https://www.centrodelcorto.it/wp-content/uploads/2018/10/VHacker_logo_sketch.jpg
END:VEVENT
BEGIN:VEVENT
DTSTART;VALUE=DATE:20181005
DTEND;VALUE=DATE:20181011
DTSTAMP:20260423T004058
CREATED:20170716T195034Z
LAST-MODIFIED:20180718T094315Z
UID:3353-1538697600-1539215999@www.centrodelcorto.it
SUMMARY:Religion Today Film Festival
DESCRIPTION:
URL:https://www.centrodelcorto.it/event/religion-today-film-festival/
LOCATION:Trento\, Trento\, Italia
ATTACH;FMTTYPE=image/png:https://www.centrodelcorto.it/wp-content/uploads/2017/07/logo-7.png
END:VEVENT
BEGIN:VEVENT
DTSTART;VALUE=DATE:20181005
DTEND;VALUE=DATE:20181015
DTSTAMP:20260423T004058
CREATED:20170715T193333Z
LAST-MODIFIED:20181004T082842Z
UID:3249-1538697600-1539561599@www.centrodelcorto.it
SUMMARY:Mitreo Film Festival
DESCRIPTION:
URL:https://www.centrodelcorto.it/event/mitreo-film-festival/
LOCATION:Santa Maria Capua Vetere\, Santa Maria Capua Vetere\, Italia
ATTACH;FMTTYPE=image/png:https://www.centrodelcorto.it/wp-content/uploads/2017/07/Schermata-2017-07-15-alle-21.35.22.png
END:VEVENT
BEGIN:VEVENT
DTSTART;VALUE=DATE:20181001
DTEND;VALUE=DATE:20181101
DTSTAMP:20260423T004058
CREATED:20170715T200803Z
LAST-MODIFIED:20181002T102829Z
UID:3313-1538352000-1541030399@www.centrodelcorto.it
SUMMARY:Piemonte Movie Glocal Film Festival
DESCRIPTION:
URL:https://www.centrodelcorto.it/event/piemonte-movie-glocal-film-festival/
LOCATION:Torino\, Torino
ATTACH;FMTTYPE=image/png:https://www.centrodelcorto.it/wp-content/uploads/2017/07/Schermata-2014-07-08-a-11.47.58.png
END:VEVENT
BEGIN:VEVENT
DTSTART;VALUE=DATE:20180927
DTEND;VALUE=DATE:20181208
DTSTAMP:20260423T004058
CREATED:20170716T194142Z
LAST-MODIFIED:20181002T112730Z
UID:3343-1538006400-1544227199@www.centrodelcorto.it
SUMMARY:Punto di Vista Film Festival
DESCRIPTION:
URL:https://www.centrodelcorto.it/event/punto-di-vista-film-festival/
LOCATION:Cagliari\, Cagliari\, Italia
ATTACH;FMTTYPE=image/png:https://www.centrodelcorto.it/wp-content/uploads/2017/07/logo-6.png
END:VEVENT
BEGIN:VEVENT
DTSTART;VALUE=DATE:20180926
DTEND;VALUE=DATE:20180928
DTSTAMP:20260423T004058
CREATED:20170713T104556Z
LAST-MODIFIED:20181002T104625Z
UID:2858-1537920000-1538092799@www.centrodelcorto.it
SUMMARY:Coffi - cortOglobo Film Festival Italia
DESCRIPTION:
URL:https://www.centrodelcorto.it/event/coffi-cortoglobo-film-festival-italia/
LOCATION:Angri\, Angri\, Italia
ATTACH;FMTTYPE=image/png:https://www.centrodelcorto.it/wp-content/uploads/2017/07/logo-coffi.png
END:VEVENT
BEGIN:VEVENT
DTSTART;VALUE=DATE:20180925
DTEND;VALUE=DATE:20181001
DTSTAMP:20260423T004058
CREATED:20170716T210301Z
LAST-MODIFIED:20180718T090851Z
UID:3499-1537833600-1538351999@www.centrodelcorto.it
SUMMARY:Terra di Siena Film Festival
DESCRIPTION:
URL:https://www.centrodelcorto.it/event/terra-di-siena-film-festival/
LOCATION:Siena\, Siena
ATTACH;FMTTYPE=image/png:https://www.centrodelcorto.it/wp-content/uploads/2017/07/Schermata-2017-07-16-alle-23.04.17.png
END:VEVENT
BEGIN:VEVENT
DTSTART;VALUE=DATE:20180921
DTEND;VALUE=DATE:20180923
DTSTAMP:20260423T004058
CREATED:20170713T062922Z
LAST-MODIFIED:20180717T101700Z
UID:2798-1537488000-1537660799@www.centrodelcorto.it
SUMMARY:Catone Film Festival
DESCRIPTION:
URL:https://www.centrodelcorto.it/event/catone-film-festival/
LOCATION:Monte Porzio Catone\, Monte Porzio Catone
ATTACH;FMTTYPE=image/jpeg:https://www.centrodelcorto.it/wp-content/uploads/2017/07/timthumb-6-1.jpg
END:VEVENT
BEGIN:VEVENT
DTSTART;VALUE=DATE:20180921
DTEND;VALUE=DATE:20180922
DTSTAMP:20260423T004058
CREATED:20170714T083910Z
LAST-MODIFIED:20180718T085231Z
UID:3039-1537488000-1537574399@www.centrodelcorto.it
SUMMARY:Festival Internazionale del Cinema Povero
DESCRIPTION:
URL:https://www.centrodelcorto.it/event/festival-internazionale-del-cinema-povero/
LOCATION:Ispra\, Ispra\, Italia
ATTACH;FMTTYPE=image/png:https://www.centrodelcorto.it/wp-content/uploads/2017/07/logo_cinema-1.png
END:VEVENT
BEGIN:VEVENT
DTSTART;VALUE=DATE:20180920
DTEND;VALUE=DATE:20180923
DTSTAMP:20260423T004058
CREATED:20170713T202716Z
LAST-MODIFIED:20180717T112342Z
UID:2950-1537401600-1537660799@www.centrodelcorto.it
SUMMARY:Cortosplash
DESCRIPTION:
URL:https://www.centrodelcorto.it/event/cortosplash/
LOCATION:Policoro\, Policoro\, 75025\, Italia
ATTACH;FMTTYPE=image/jpeg:https://www.centrodelcorto.it/wp-content/uploads/2017/07/cropped-splash4.jpg
END:VEVENT
BEGIN:VEVENT
DTSTART;VALUE=DATE:20180918
DTEND;VALUE=DATE:20180924
DTSTAMP:20260423T004058
CREATED:20170713T063600Z
LAST-MODIFIED:20180718T084456Z
UID:2809-1537228800-1537747199@www.centrodelcorto.it
SUMMARY:Cervignano Film Festival
DESCRIPTION:
URL:https://www.centrodelcorto.it/event/cervignano-film-festival/
LOCATION:Cervignano\, Cervignano del Friuli\, Italia
ATTACH;FMTTYPE=image/png:https://www.centrodelcorto.it/wp-content/uploads/2017/07/logo-1.png
END:VEVENT
BEGIN:VEVENT
DTSTART;VALUE=DATE:20180916
DTEND;VALUE=DATE:20180921
DTSTAMP:20260423T004058
CREATED:20170716T200205Z
LAST-MODIFIED:20181004T074813Z
UID:3378-1537056000-1537487999@www.centrodelcorto.it
SUMMARY:Roma Creative Contest
DESCRIPTION:
URL:https://www.centrodelcorto.it/event/roma-creative-contest/
LOCATION:Roma\, Roma\, Italia
ATTACH;FMTTYPE=image/png:https://www.centrodelcorto.it/wp-content/uploads/2017/07/Schermata-2017-07-16-alle-22.04.09.png
END:VEVENT
BEGIN:VEVENT
DTSTART;VALUE=DATE:20180910
DTEND;VALUE=DATE:20180917
DTSTAMP:20260423T004058
CREATED:20170716T202057Z
LAST-MODIFIED:20181002T095335Z
UID:3411-1536537600-1537142399@www.centrodelcorto.it
SUMMARY:Sciacca Film Fest
DESCRIPTION:
URL:https://www.centrodelcorto.it/event/sciacca-film-fest/
LOCATION:Sciacca\, Sciacca\, Italia
ATTACH;FMTTYPE=image/png:https://www.centrodelcorto.it/wp-content/uploads/2017/07/Schermata-2017-07-16-alle-22.21.36.png
END:VEVENT
BEGIN:VEVENT
DTSTART;VALUE=DATE:20180907
DTEND;VALUE=DATE:20180909
DTSTAMP:20260423T004058
CREATED:20170715T194444Z
LAST-MODIFIED:20181002T084056Z
UID:3267-1536278400-1536451199@www.centrodelcorto.it
SUMMARY:Muuh Film Festival
DESCRIPTION:
URL:https://www.centrodelcorto.it/event/muuh-film-festival/
LOCATION:Grugliasco\, Grugliasco\, Italia
ATTACH;FMTTYPE=image/jpeg:https://www.centrodelcorto.it/wp-content/uploads/2017/07/image.jpg
END:VEVENT
BEGIN:VEVENT
DTSTART;VALUE=DATE:20180903
DTEND;VALUE=DATE:20181012
DTSTAMP:20260423T004058
CREATED:20170715T165556Z
LAST-MODIFIED:20180718T082959Z
UID:3183-1535932800-1539302399@www.centrodelcorto.it
SUMMARY:Labour Film Festival
DESCRIPTION:
URL:https://www.centrodelcorto.it/event/labour-film-festival/
LOCATION:Milano\, Milano\, Italia
ATTACH;FMTTYPE=image/jpeg:https://www.centrodelcorto.it/wp-content/uploads/2017/07/labour18testa2.jpg
END:VEVENT
BEGIN:VEVENT
DTSTART;VALUE=DATE:20180822
DTEND;VALUE=DATE:20180827
DTSTAMP:20260423T004058
CREATED:20170715T200349Z
LAST-MODIFIED:20180718T132011Z
UID:3302-1534896000-1535327999@www.centrodelcorto.it
SUMMARY:Pentedattilo Film Festival
DESCRIPTION:
URL:https://www.centrodelcorto.it/event/pentedattilo-film-festival/
LOCATION:Pentidattilo\, Pentidattilo
ATTACH;FMTTYPE=image/jpeg:https://www.centrodelcorto.it/wp-content/uploads/2017/07/timthumb-2-10.jpg
END:VEVENT
BEGIN:VEVENT
DTSTART;VALUE=DATE:20180817
DTEND;VALUE=DATE:20180820
DTSTAMP:20260423T004058
CREATED:20170716T212806Z
LAST-MODIFIED:20181002T094907Z
UID:3550-1534464000-1534723199@www.centrodelcorto.it
SUMMARY:Vicoli Corti
DESCRIPTION:
URL:https://www.centrodelcorto.it/event/vicoli-corti/
ATTACH;FMTTYPE=image/jpeg:https://www.centrodelcorto.it/wp-content/uploads/2017/07/vicoli-corti-e1538473728913.jpg
END:VEVENT
BEGIN:VEVENT
DTSTART;VALUE=DATE:20180807
DTEND;VALUE=DATE:20180812
DTSTAMP:20260423T004058
CREATED:20170715T164536Z
LAST-MODIFIED:20180717T101829Z
UID:3153-1533600000-1534031999@www.centrodelcorto.it
SUMMARY:Inventa un film
DESCRIPTION:
URL:https://www.centrodelcorto.it/event/inventa-un-film/
ATTACH;FMTTYPE=image/jpeg:https://www.centrodelcorto.it/wp-content/uploads/2017/07/timthumb-24.jpg
END:VEVENT
BEGIN:VEVENT
DTSTART;VALUE=DATE:20180807
DTEND;VALUE=DATE:20180812
DTSTAMP:20260423T004058
CREATED:20170712T213334Z
LAST-MODIFIED:20180712T105629Z
UID:2762-1533600000-1534031999@www.centrodelcorto.it
SUMMARY:Borgia Film Festival
DESCRIPTION:
URL:https://www.centrodelcorto.it/event/borgia-film-festival/
LOCATION:Borgia\, Borgia\, Italia
ATTACH;FMTTYPE=image/jpeg:https://www.centrodelcorto.it/wp-content/uploads/2017/07/timthumb-10.jpg
END:VEVENT
BEGIN:VEVENT
DTSTART;VALUE=DATE:20180805
DTEND;VALUE=DATE:20180812
DTSTAMP:20260423T004058
CREATED:20170713T201038Z
LAST-MODIFIED:20190604T090829Z
UID:2908-1533427200-1534031999@www.centrodelcorto.it
SUMMARY:Corto di Sera
DESCRIPTION:Deadline: 14 aprile 2019
URL:https://www.centrodelcorto.it/event/corto-di-sera/
ATTACH;FMTTYPE=image/jpeg:https://www.centrodelcorto.it/wp-content/uploads/2017/07/cropped-cds2016.jpg
END:VEVENT
BEGIN:VEVENT
DTSTART;VALUE=DATE:20180802
DTEND;VALUE=DATE:20180805
DTSTAMP:20260423T004058
CREATED:20170716T205433Z
LAST-MODIFIED:20190605T080655Z
UID:3478-1533168000-1533427199@www.centrodelcorto.it
SUMMARY:State aKorti
DESCRIPTION:Deadline: 30 giungo 2019
URL:https://www.centrodelcorto.it/event/state-akorti/
LOCATION:Viagrande\, Viagrande\, Italia
ATTACH;FMTTYPE=image/png:https://www.centrodelcorto.it/wp-content/uploads/2017/07/StateAkorti_red-e1425660085517.png
END:VEVENT
BEGIN:VEVENT
DTSTART;VALUE=DATE:20180802
DTEND;VALUE=DATE:20180806
DTSTAMP:20260423T004058
CREATED:20170716T195429Z
LAST-MODIFIED:20180717T110349Z
UID:3360-1533168000-1533513599@www.centrodelcorto.it
SUMMARY:Riace in Festival
DESCRIPTION:
URL:https://www.centrodelcorto.it/event/riace-in-festival/
LOCATION:Riace\, Riace\, Italia
ATTACH;FMTTYPE=image/png:https://www.centrodelcorto.it/wp-content/uploads/2017/07/02-White-PNG-outline.png
END:VEVENT
BEGIN:VEVENT
DTSTART;VALUE=DATE:20180731
DTEND;VALUE=DATE:20180805
DTSTAMP:20260423T004058
CREATED:20170715T191855Z
LAST-MODIFIED:20180713T083723Z
UID:3216-1532995200-1533427199@www.centrodelcorto.it
SUMMARY:Malescorto
DESCRIPTION:
URL:https://www.centrodelcorto.it/event/malescorto/
LOCATION:Malesco\, Malesco\, Italia
ATTACH;FMTTYPE=image/jpeg:https://www.centrodelcorto.it/wp-content/uploads/2017/07/timthumb-4-4.jpg
END:VEVENT
BEGIN:VEVENT
DTSTART;VALUE=DATE:20180729
DTEND;VALUE=DATE:20180805
DTSTAMP:20260423T004058
CREATED:20170716T193616Z
LAST-MODIFIED:20180712T100358Z
UID:3335-1532822400-1533427199@www.centrodelcorto.it
SUMMARY:Premio Libero Bizzarri
DESCRIPTION:
URL:https://www.centrodelcorto.it/event/premio-libero-bizzarri/
LOCATION:San Benedetto del Tronto\, San Benedetto del Tronto\, Italia
ATTACH;FMTTYPE=image/jpeg:https://www.centrodelcorto.it/wp-content/uploads/2017/07/1.jpg
END:VEVENT
BEGIN:VEVENT
DTSTART;VALUE=DATE:20180725
DTEND;VALUE=DATE:20180729
DTSTAMP:20260423T004058
CREATED:20171219T101032Z
LAST-MODIFIED:20180717T111418Z
UID:3991-1532476800-1532822399@www.centrodelcorto.it
SUMMARY:Film Caravan
DESCRIPTION:
URL:https://www.centrodelcorto.it/event/film-caravan-2/
LOCATION:Imperia\, Imperia\, Italia
ATTACH;FMTTYPE=image/jpeg:https://www.centrodelcorto.it/wp-content/uploads/2017/12/tumblr_static_8dhzhqxjb604480swkg8ck0o4.jpg
END:VEVENT
BEGIN:VEVENT
DTSTART;VALUE=DATE:20180722
DTEND;VALUE=DATE:20180729
DTSTAMP:20260423T004058
CREATED:20170714T085514Z
LAST-MODIFIED:20180717T104631Z
UID:3083-1532217600-1532822399@www.centrodelcorto.it
SUMMARY:Fiuggi Film Festival
DESCRIPTION:
URL:https://www.centrodelcorto.it/event/fiuggi-film-festival/
LOCATION:Fiuggi\, Fiuggi\, Italia
ATTACH;FMTTYPE=image/jpeg:https://www.centrodelcorto.it/wp-content/uploads/2017/07/logo_fff.jpg
END:VEVENT
BEGIN:VEVENT
DTSTART;VALUE=DATE:20180719
DTEND;VALUE=DATE:20180723
DTSTAMP:20260423T004058
CREATED:20170713T065323Z
LAST-MODIFIED:20180717T103643Z
UID:2850-1531958400-1532303999@www.centrodelcorto.it
SUMMARY:Cisterna Film Festival
DESCRIPTION:
URL:https://www.centrodelcorto.it/event/cisterna-film-festival/
LOCATION:Cisterna\, Cisterna\, Italia
ATTACH;FMTTYPE=image/png:https://www.centrodelcorto.it/wp-content/uploads/2017/07/logo4.png
END:VEVENT
BEGIN:VEVENT
DTSTART;VALUE=DATE:20180717
DTEND;VALUE=DATE:20180720
DTSTAMP:20260423T004058
CREATED:20170714T201635Z
LAST-MODIFIED:20180717T100122Z
UID:3094-1531785600-1532044799@www.centrodelcorto.it
SUMMARY:FMK International Short Film Festival
DESCRIPTION:
URL:https://www.centrodelcorto.it/event/fmk-international-short-film-festival/
LOCATION:Pordenone\, Pordenone\, Italia
ATTACH;FMTTYPE=image/png:https://www.centrodelcorto.it/wp-content/uploads/2017/07/logo-3.png
END:VEVENT
END:VCALENDAR