BEGIN:VCALENDAR
VERSION:2.0
PRODID:-//centrodelcorto.it - ECPv6.15.20//NONSGML v1.0//EN
CALSCALE:GREGORIAN
METHOD:PUBLISH
X-ORIGINAL-URL:https://www.centrodelcorto.it
X-WR-CALDESC:Eventi per centrodelcorto.it
REFRESH-INTERVAL;VALUE=DURATION:PT1H
X-Robots-Tag:noindex
X-PUBLISHED-TTL:PT1H
BEGIN:VTIMEZONE
TZID:Europe/Rome
BEGIN:DAYLIGHT
TZOFFSETFROM:+0100
TZOFFSETTO:+0200
TZNAME:CEST
DTSTART:20210328T010000
END:DAYLIGHT
BEGIN:STANDARD
TZOFFSETFROM:+0200
TZOFFSETTO:+0100
TZNAME:CET
DTSTART:20211031T010000
END:STANDARD
BEGIN:DAYLIGHT
TZOFFSETFROM:+0100
TZOFFSETTO:+0200
TZNAME:CEST
DTSTART:20220327T010000
END:DAYLIGHT
BEGIN:STANDARD
TZOFFSETFROM:+0200
TZOFFSETTO:+0100
TZNAME:CET
DTSTART:20221030T010000
END:STANDARD
BEGIN:DAYLIGHT
TZOFFSETFROM:+0100
TZOFFSETTO:+0200
TZNAME:CEST
DTSTART:20230326T010000
END:DAYLIGHT
BEGIN:STANDARD
TZOFFSETFROM:+0200
TZOFFSETTO:+0100
TZNAME:CET
DTSTART:20231029T010000
END:STANDARD
END:VTIMEZONE
BEGIN:VEVENT
DTSTART;VALUE=DATE:20220218
DTEND;VALUE=DATE:20220225
DTSTAMP:20260422T021909
CREATED:20170716T202559Z
LAST-MODIFIED:20211022T094920Z
UID:3423-1645142400-1645747199@www.centrodelcorto.it
SUMMARY:See You Sound - International Music Film Festival
DESCRIPTION:Deadline: 14 novembre 2021
URL:https://www.centrodelcorto.it/event/see-you-sound-international-music-film-festival/
LOCATION:Torino\, Torino\, 10100\, Italia
ATTACH;FMTTYPE=image/png:https://www.centrodelcorto.it/wp-content/uploads/2017/07/logo_menu_txt.png
END:VEVENT
END:VCALENDAR