BEGIN:VCALENDAR
VERSION:2.0
PRODID:-//centrodelcorto.it - ECPv6.15.20//NONSGML v1.0//EN
CALSCALE:GREGORIAN
METHOD:PUBLISH
X-WR-CALNAME:centrodelcorto.it
X-ORIGINAL-URL:https://www.centrodelcorto.it
X-WR-CALDESC:Eventi per centrodelcorto.it
REFRESH-INTERVAL;VALUE=DURATION:PT1H
X-Robots-Tag:noindex
X-PUBLISHED-TTL:PT1H
BEGIN:VTIMEZONE
TZID:Europe/Rome
BEGIN:DAYLIGHT
TZOFFSETFROM:+0100
TZOFFSETTO:+0200
TZNAME:CEST
DTSTART:20210328T010000
END:DAYLIGHT
BEGIN:STANDARD
TZOFFSETFROM:+0200
TZOFFSETTO:+0100
TZNAME:CET
DTSTART:20211031T010000
END:STANDARD
BEGIN:DAYLIGHT
TZOFFSETFROM:+0100
TZOFFSETTO:+0200
TZNAME:CEST
DTSTART:20220327T010000
END:DAYLIGHT
BEGIN:STANDARD
TZOFFSETFROM:+0200
TZOFFSETTO:+0100
TZNAME:CET
DTSTART:20221030T010000
END:STANDARD
BEGIN:DAYLIGHT
TZOFFSETFROM:+0100
TZOFFSETTO:+0200
TZNAME:CEST
DTSTART:20230326T010000
END:DAYLIGHT
BEGIN:STANDARD
TZOFFSETFROM:+0200
TZOFFSETTO:+0100
TZNAME:CET
DTSTART:20231029T010000
END:STANDARD
END:VTIMEZONE
BEGIN:VEVENT
DTSTART;VALUE=DATE:20220326
DTEND;VALUE=DATE:20220404
DTSTAMP:20260421T233131
CREATED:20170712T212635Z
LAST-MODIFIED:20211022T091320Z
UID:2750-1648252800-1649030399@www.centrodelcorto.it
SUMMARY:Bergamo Film Meeting
DESCRIPTION:Deadline: 18 dicembre 2021
URL:https://www.centrodelcorto.it/event/bergamo-film-meeting/
LOCATION:Bergamo\, Bergamo\, 24121\, Italia
ATTACH;FMTTYPE=image/png:https://www.centrodelcorto.it/wp-content/uploads/2017/07/bfm_logo_header.png
END:VEVENT
BEGIN:VEVENT
DTSTART;VALUE=DATE:20220405
DTEND;VALUE=DATE:20220411
DTSTAMP:20260421T233131
CREATED:20211022T093944Z
LAST-MODIFIED:20211022T093944Z
UID:7072-1649116800-1649635199@www.centrodelcorto.it
SUMMARY:Bolzano Film Festival
DESCRIPTION:Deadline: 15 dicembre 2021
URL:https://www.centrodelcorto.it/event/bolzano-film-festival/
LOCATION:Bolzano\, Bolzano\, Italia
ATTACH;FMTTYPE=image/jpeg:https://www.centrodelcorto.it/wp-content/uploads/2021/10/1571144326153.jpg
END:VEVENT
BEGIN:VEVENT
DTSTART;VALUE=DATE:20220422
DTEND;VALUE=DATE:20220501
DTSTAMP:20260421T233131
CREATED:20170713T205750Z
LAST-MODIFIED:20211105T101636Z
UID:2998-1650585600-1651363199@www.centrodelcorto.it
SUMMARY:Far East Film Festival
DESCRIPTION:Deadline:
URL:https://www.centrodelcorto.it/event/far-east-film-festival/
LOCATION:Udine\, Udine\, Italia
ATTACH;FMTTYPE=image/png:https://www.centrodelcorto.it/wp-content/uploads/2017/07/Schermata-2017-07-13-alle-22.59.33.png
END:VEVENT
BEGIN:VEVENT
DTSTART;VALUE=DATE:20220429
DTEND;VALUE=DATE:20220509
DTSTAMP:20260421T233131
CREATED:20170716T211523Z
LAST-MODIFIED:20211022T092608Z
UID:3519-1651190400-1652054399@www.centrodelcorto.it
SUMMARY:Trento Film Festival
DESCRIPTION:Deadline: 10 febbraio 2022
URL:https://www.centrodelcorto.it/event/trento-film-festival/
LOCATION:Trento\, Trento\, Italia
ATTACH;FMTTYPE=image/png:https://www.centrodelcorto.it/wp-content/uploads/2017/07/Schermata-2017-07-16-alle-23.17.25.png
END:VEVENT
END:VCALENDAR