BEGIN:VCALENDAR
VERSION:2.0
PRODID:-//centrodelcorto.it - ECPv6.15.20//NONSGML v1.0//EN
CALSCALE:GREGORIAN
METHOD:PUBLISH
X-ORIGINAL-URL:https://www.centrodelcorto.it
X-WR-CALDESC:Eventi per centrodelcorto.it
REFRESH-INTERVAL;VALUE=DURATION:PT1H
X-Robots-Tag:noindex
X-PUBLISHED-TTL:PT1H
BEGIN:VTIMEZONE
TZID:Europe/Rome
BEGIN:DAYLIGHT
TZOFFSETFROM:+0100
TZOFFSETTO:+0200
TZNAME:CEST
DTSTART:20210328T010000
END:DAYLIGHT
BEGIN:STANDARD
TZOFFSETFROM:+0200
TZOFFSETTO:+0100
TZNAME:CET
DTSTART:20211031T010000
END:STANDARD
BEGIN:DAYLIGHT
TZOFFSETFROM:+0100
TZOFFSETTO:+0200
TZNAME:CEST
DTSTART:20220327T010000
END:DAYLIGHT
BEGIN:STANDARD
TZOFFSETFROM:+0200
TZOFFSETTO:+0100
TZNAME:CET
DTSTART:20221030T010000
END:STANDARD
BEGIN:DAYLIGHT
TZOFFSETFROM:+0100
TZOFFSETTO:+0200
TZNAME:CEST
DTSTART:20230326T010000
END:DAYLIGHT
BEGIN:STANDARD
TZOFFSETFROM:+0200
TZOFFSETTO:+0100
TZNAME:CET
DTSTART:20231029T010000
END:STANDARD
END:VTIMEZONE
BEGIN:VEVENT
DTSTART;VALUE=DATE:20220601
DTEND;VALUE=DATE:20220613
DTSTAMP:20260421T203003
CREATED:20170716T195526Z
LAST-MODIFIED:20211104T100126Z
UID:3364-1654041600-1655078399@www.centrodelcorto.it
SUMMARY:River Film Festival
DESCRIPTION:Deadline: 31 dicembre 2021
URL:https://www.centrodelcorto.it/event/river-film-festival/
LOCATION:Padova\, Padova\, Italia
ATTACH;FMTTYPE=image/png:https://www.centrodelcorto.it/wp-content/uploads/2017/07/logosmall2.png
END:VEVENT
BEGIN:VEVENT
DTSTART;VALUE=DATE:20220617
DTEND;VALUE=DATE:20220623
DTSTAMP:20260421T203003
CREATED:20190613T083042Z
LAST-MODIFIED:20211022T093156Z
UID:5936-1655424000-1655942399@www.centrodelcorto.it
SUMMARY:Figari Film Festival
DESCRIPTION:Deadline: 20 marzo 2022
URL:https://www.centrodelcorto.it/event/figari-film-fest/
LOCATION:olbia\, Olbia\, Italy
ATTACH;FMTTYPE=image/jpeg:https://www.centrodelcorto.it/wp-content/uploads/2019/06/photo.jpg
END:VEVENT
BEGIN:VEVENT
DTSTART;VALUE=DATE:20220625
DTEND;VALUE=DATE:20220703
DTSTAMP:20260421T203003
CREATED:20220627T155112Z
LAST-MODIFIED:20220627T155112Z
UID:7425-1656115200-1656806399@www.centrodelcorto.it
SUMMARY:Ischia Film Festival
DESCRIPTION:Deadline: 20 Marzo 2022
URL:https://www.centrodelcorto.it/event/ischia-film-festival-2/
LOCATION:Castello Aragonese\, Via Pontile Aragonese\, Ischia\, Italia
ATTACH;FMTTYPE=image/jpeg:https://www.centrodelcorto.it/wp-content/uploads/2022/06/IFF_brand-low.jpg
END:VEVENT
BEGIN:VEVENT
DTSTART;VALUE=DATE:20220626
DTEND;VALUE=DATE:20220703
DTSTAMP:20260421T203003
CREATED:20220627T154516Z
LAST-MODIFIED:20220627T154516Z
UID:7421-1656201600-1656806399@www.centrodelcorto.it
SUMMARY:Taormina Film Fest
DESCRIPTION:Deadline: 31 Maggio 2022
URL:https://www.centrodelcorto.it/event/taormina-film-fest/
LOCATION:Teatro Antico Taormina\, Via del Teatro Greco 1\, Taormina\, Italia
ATTACH;FMTTYPE=image/jpeg:https://www.centrodelcorto.it/wp-content/uploads/2022/06/taormina.jpg
END:VEVENT
END:VCALENDAR